BEGIN:VCALENDAR
VERSION:2.0
PRODID:-//eventon.com NONSGML v1.0//EN
BEGIN:VEVENT
UID:69e5e618bc40e
DTSTAMP:20260420T033848
DTSTART:20210916T000000Z
DTEND:20211019T000000Z
TZID:UTC
LOCATION:Yogi Bear Jellystone Park - Camp-Resort S1915 Ishnala Rd\, 
SUMMARY:Wo-ZHA-Wa Wisconsin Dells Festival Weekend
DESCRIPTION: Let the festivities begin in the Wisconsin Dells with Wo-ZHA-Wa. Make this weekend memorable with us at Jellystone Park™ . Wo-ZHA-Wa days are filled with free family activities\,  including an arts and crafts fair\,  an antique flea market\,  Maxwell Street Days\,  live entertainment and a 100-unit parade including Yogi Bear™[..]\nhttps://www.dells.com/events/wo-zha-wa-wisconsin-dells-festival-weekend/
URL:https://www.dells.com/events/wo-zha-wa-wisconsin-dells-festival-weekend/
END:VEVENT
END:VCALENDAR